BEGIN:VCALENDAR
VERSION:2.0
PRODID:-//Transitions LifeCare - ECPv6.15.18//NONSGML v1.0//EN
CALSCALE:GREGORIAN
METHOD:PUBLISH
X-ORIGINAL-URL:https://www.transitionslifecare.org
X-WR-CALDESC:Events for Transitions LifeCare
REFRESH-INTERVAL;VALUE=DURATION:PT1H
X-Robots-Tag:noindex
X-PUBLISHED-TTL:PT1H
BEGIN:VTIMEZONE
TZID:America/New_York
BEGIN:DAYLIGHT
TZOFFSETFROM:-0500
TZOFFSETTO:-0400
TZNAME:EDT
DTSTART:20230312T070000
END:DAYLIGHT
BEGIN:STANDARD
TZOFFSETFROM:-0400
TZOFFSETTO:-0500
TZNAME:EST
DTSTART:20231105T060000
END:STANDARD
BEGIN:DAYLIGHT
TZOFFSETFROM:-0500
TZOFFSETTO:-0400
TZNAME:EDT
DTSTART:20240310T070000
END:DAYLIGHT
BEGIN:STANDARD
TZOFFSETFROM:-0400
TZOFFSETTO:-0500
TZNAME:EST
DTSTART:20241103T060000
END:STANDARD
BEGIN:DAYLIGHT
TZOFFSETFROM:-0500
TZOFFSETTO:-0400
TZNAME:EDT
DTSTART:20250309T070000
END:DAYLIGHT
BEGIN:STANDARD
TZOFFSETFROM:-0400
TZOFFSETTO:-0500
TZNAME:EST
DTSTART:20251102T060000
END:STANDARD
END:VTIMEZONE
BEGIN:VEVENT
DTSTART;TZID=America/New_York:20240731T173000
DTEND;TZID=America/New_York:20240731T203000
DTSTAMP:20260419T140743
CREATED:20240508T192025Z
LAST-MODIFIED:20240508T192025Z
UID:10002029-1722447000-1722457800@www.transitionslifecare.org
SUMMARY:The Art of Grief: Story Cloths Workshop in Two Parts
DESCRIPTION:Story cloths are visual representations of memories/moments in time made from fabric. In this two-part workshop\, you will be supported in creating your own story cloth. This workshop aspires to combine the community of a sewing circle with the safety of a grief group. \nParticipants are encouraged to bring fabric that belonged to their person. All other materials will be provided. \nRegistration and attendance in both sessions s required. Call 919-719-7199. \nWednesdays\, 5:30-8:30pm \nJuly 17 and 31 \n  \n  \nTransitions GriefCare provides grief support at no charge to the bereaved. If you’d like to help us continue this service\, please consider making a donation at transitionslifecare.org/donate.
URL:https://www.transitionslifecare.org/event/the-art-of-grief-story-cloths-workshop-in-two-parts/2024-07-31/
LOCATION:Transitions LifeCare\, 250 Hospice Circle\, Raleigh\, NC\, 27607\, United States
CATEGORIES:Grief Support,Grief Support for Adults
ATTACH;FMTTYPE=image/jpeg:https://www.transitionslifecare.org/wp-content/uploads/2024/05/Story-Cloths-scaled.jpeg
GEO:35.8074456;-78.7418081
X-APPLE-STRUCTURED-LOCATION;VALUE=URI;X-ADDRESS=Transitions LifeCare 250 Hospice Circle Raleigh NC 27607 United States;X-APPLE-RADIUS=500;X-TITLE=250 Hospice Circle:geo:-78.7418081,35.8074456
END:VEVENT
END:VCALENDAR