BEGIN:VCALENDAR
VERSION:2.0
PRODID:-//Transitions LifeCare - ECPv6.15.18//NONSGML v1.0//EN
CALSCALE:GREGORIAN
METHOD:PUBLISH
X-ORIGINAL-URL:https://www.transitionslifecare.org
X-WR-CALDESC:Events for Transitions LifeCare
REFRESH-INTERVAL;VALUE=DURATION:PT1H
X-Robots-Tag:noindex
X-PUBLISHED-TTL:PT1H
BEGIN:VTIMEZONE
TZID:America/New_York
BEGIN:DAYLIGHT
TZOFFSETFROM:-0500
TZOFFSETTO:-0400
TZNAME:EDT
DTSTART:20230312T070000
END:DAYLIGHT
BEGIN:STANDARD
TZOFFSETFROM:-0400
TZOFFSETTO:-0500
TZNAME:EST
DTSTART:20231105T060000
END:STANDARD
BEGIN:DAYLIGHT
TZOFFSETFROM:-0500
TZOFFSETTO:-0400
TZNAME:EDT
DTSTART:20240310T070000
END:DAYLIGHT
BEGIN:STANDARD
TZOFFSETFROM:-0400
TZOFFSETTO:-0500
TZNAME:EST
DTSTART:20241103T060000
END:STANDARD
BEGIN:DAYLIGHT
TZOFFSETFROM:-0500
TZOFFSETTO:-0400
TZNAME:EDT
DTSTART:20250309T070000
END:DAYLIGHT
BEGIN:STANDARD
TZOFFSETFROM:-0400
TZOFFSETTO:-0500
TZNAME:EST
DTSTART:20251102T060000
END:STANDARD
END:VTIMEZONE
BEGIN:VEVENT
DTSTART;TZID=America/New_York:20241017T150000
DTEND;TZID=America/New_York:20241017T163000
DTSTAMP:20260419T142026
CREATED:20240508T174838Z
LAST-MODIFIED:20240508T174838Z
UID:10002011-1729177200-1729182600@www.transitionslifecare.org
SUMMARY:Conversations on Grief (virtual)
DESCRIPTION:Conversations on Grief introduces participants to the many dimensions of grief. Explore different aspects of grief and grieving in these educational and supportive online conversations. \nChoose the day that best suits your schedule. \nRegistration is required to receive a meeting code. Call 919-719-7199. \nUnderstanding Grief\nThursday\, September 19 \nAnger\, Guilt\, and Regret\nThursday\, September 26 \nWhy Doesn’t Anyone Understand?\nThursday\, October 3 \nWho Am I Now?\nThursday\, October 10 \nWhere Do I Go From Here?\nThursday\, October 17 \nTransitions GriefCare provides grief support at no charge to the bereaved. If you’d like to help us continue this service\, please consider making a donation at transitionslifecare.org/donate.
URL:https://www.transitionslifecare.org/event/conversations-on-grief-virtual-13/2024-10-17/
LOCATION:Virtual
CATEGORIES:Grief Support,Grief Support for Adults
ATTACH;FMTTYPE=image/jpeg:https://www.transitionslifecare.org/wp-content/uploads/2023/08/iStock-186590547-scaled-e1693422827944.jpg
GEO:35.7595731;-79.0192997
END:VEVENT
END:VCALENDAR