BEGIN:VCALENDAR
VERSION:2.0
PRODID:-//Transitions LifeCare - ECPv6.15.18//NONSGML v1.0//EN
CALSCALE:GREGORIAN
METHOD:PUBLISH
X-ORIGINAL-URL:https://www.transitionslifecare.org
X-WR-CALDESC:Events for Transitions LifeCare
REFRESH-INTERVAL;VALUE=DURATION:PT1H
X-Robots-Tag:noindex
X-PUBLISHED-TTL:PT1H
BEGIN:VTIMEZONE
TZID:America/New_York
BEGIN:DAYLIGHT
TZOFFSETFROM:-0500
TZOFFSETTO:-0400
TZNAME:EDT
DTSTART:20230312T070000
END:DAYLIGHT
BEGIN:STANDARD
TZOFFSETFROM:-0400
TZOFFSETTO:-0500
TZNAME:EST
DTSTART:20231105T060000
END:STANDARD
BEGIN:DAYLIGHT
TZOFFSETFROM:-0500
TZOFFSETTO:-0400
TZNAME:EDT
DTSTART:20240310T070000
END:DAYLIGHT
BEGIN:STANDARD
TZOFFSETFROM:-0400
TZOFFSETTO:-0500
TZNAME:EST
DTSTART:20241103T060000
END:STANDARD
BEGIN:DAYLIGHT
TZOFFSETFROM:-0500
TZOFFSETTO:-0400
TZNAME:EDT
DTSTART:20250309T070000
END:DAYLIGHT
BEGIN:STANDARD
TZOFFSETFROM:-0400
TZOFFSETTO:-0500
TZNAME:EST
DTSTART:20251102T060000
END:STANDARD
END:VTIMEZONE
BEGIN:VEVENT
DTSTART;TZID=America/New_York:20241106T180000
DTEND;TZID=America/New_York:20241106T183000
DTSTAMP:20260419T125231
CREATED:20231027T190759Z
LAST-MODIFIED:20240411T142506Z
UID:10001915-1730916000-1730917800@www.transitionslifecare.org
SUMMARY:Volunteer Information Session – 2024
DESCRIPTION:Volunteer Information Sessions are offered at various times throughout the year. We recommend anyone who is interested in becoming a volunteer attend a half-hour session to learn more about the many ways to volunteer and speak with Transitions LifeCare staff and current volunteers. Please visit our How to Become a Volunteer page for more information. \nThis will be a Zoom session with an invitation emailed to you after registration. \nRegister here or call 919-828-0890.
URL:https://www.transitionslifecare.org/event/volunteer-information-session-2024/2024-11-06/
LOCATION:Virtual
CATEGORIES:Volunteer Events,Volunteer Information Sessions
ORGANIZER;CN="Volunteer Services":MAILTO:vol1@transitionslifecare.org
GEO:35.7595731;-79.0192997
END:VEVENT
END:VCALENDAR