BEGIN:VCALENDAR
VERSION:2.0
PRODID:-//Transitions LifeCare - ECPv6.15.18//NONSGML v1.0//EN
CALSCALE:GREGORIAN
METHOD:PUBLISH
X-ORIGINAL-URL:https://www.transitionslifecare.org
X-WR-CALDESC:Events for Transitions LifeCare
REFRESH-INTERVAL;VALUE=DURATION:PT1H
X-Robots-Tag:noindex
X-PUBLISHED-TTL:PT1H
BEGIN:VTIMEZONE
TZID:America/New_York
BEGIN:DAYLIGHT
TZOFFSETFROM:-0500
TZOFFSETTO:-0400
TZNAME:EDT
DTSTART:20240310T070000
END:DAYLIGHT
BEGIN:STANDARD
TZOFFSETFROM:-0400
TZOFFSETTO:-0500
TZNAME:EST
DTSTART:20241103T060000
END:STANDARD
BEGIN:DAYLIGHT
TZOFFSETFROM:-0500
TZOFFSETTO:-0400
TZNAME:EDT
DTSTART:20250309T070000
END:DAYLIGHT
BEGIN:STANDARD
TZOFFSETFROM:-0400
TZOFFSETTO:-0500
TZNAME:EST
DTSTART:20251102T060000
END:STANDARD
BEGIN:DAYLIGHT
TZOFFSETFROM:-0500
TZOFFSETTO:-0400
TZNAME:EDT
DTSTART:20260308T070000
END:DAYLIGHT
BEGIN:STANDARD
TZOFFSETFROM:-0400
TZOFFSETTO:-0500
TZNAME:EST
DTSTART:20261101T060000
END:STANDARD
END:VTIMEZONE
BEGIN:VEVENT
DTSTART;TZID=America/New_York:20250108T173000
DTEND;TZID=America/New_York:20250108T193000
DTSTAMP:20260419T124720
CREATED:20240912T210146Z
LAST-MODIFIED:20240912T210146Z
UID:10002080-1736357400-1736364600@www.transitionslifecare.org
SUMMARY:Lights of Remembrance
DESCRIPTION:We invite you to select one date to attend and celebrate the life of your loved one through light\, imagery\, and quiet reflection as you walk along the illuminated pathways on our campus. \nIf you would like us to light a luminary in honor of your loved one\, please visit transitionslifecare.org/lor to fill out our online order form. We invite you to personalize your loved one’s tribute with their name\, photo\, and a message. Orders must be submitted online or postmarked by Wednesday\, December 11 to ensure adequate time for printing. \nJanuary 8 or 9\, 2025.
URL:https://www.transitionslifecare.org/event/lights-of-remembrance-3/2025-01-08/
LOCATION:Transitions LifeCare\, 250 Hospice Circle\, Raleigh\, NC\, 27607\, United States
CATEGORIES:Grief Support,Grief Support for Adults
ATTACH;FMTTYPE=image/jpeg:https://www.transitionslifecare.org/wp-content/uploads/2024/09/LOR-2024-fountain.jpg
GEO:35.8074456;-78.7418081
X-APPLE-STRUCTURED-LOCATION;VALUE=URI;X-ADDRESS=Transitions LifeCare 250 Hospice Circle Raleigh NC 27607 United States;X-APPLE-RADIUS=500;X-TITLE=250 Hospice Circle:geo:-78.7418081,35.8074456
END:VEVENT
BEGIN:VEVENT
DTSTART;TZID=America/New_York:20250108T180000
DTEND;TZID=America/New_York:20250108T183000
DTSTAMP:20260419T124720
CREATED:20241112T160317Z
LAST-MODIFIED:20251001T195137Z
UID:10002082-1736359200-1736361000@www.transitionslifecare.org
SUMMARY:Volunteer Information Session – 2025
DESCRIPTION:CLICK HERE to Register or call 919-828-0890. \nVolunteer Information Sessions are offered at various times throughout the year. We recommend anyone who is interested in becoming a volunteer attend a half-hour session to learn more about the many ways to volunteer and speak with Transitions LifeCare staff and current volunteers. Please visit our How to Become a Volunteer page for more information. \nThis will be a Zoom session with an invitation emailed to you after registration.
URL:https://www.transitionslifecare.org/event/volunteer-information-session-2025/2025-01-08/
LOCATION:Virtual
CATEGORIES:Volunteer Information Sessions
ATTACH;FMTTYPE=image/png:https://www.transitionslifecare.org/wp-content/uploads/2024/11/LifeCare.Horiz_.4c.png
ORGANIZER;CN="Volunteer Services":MAILTO:vol1@transitionslifecare.org
GEO:35.7595731;-79.0192997
END:VEVENT
END:VCALENDAR