BEGIN:VCALENDAR
VERSION:2.0
PRODID:-//Transitions LifeCare - ECPv6.15.18//NONSGML v1.0//EN
CALSCALE:GREGORIAN
METHOD:PUBLISH
X-ORIGINAL-URL:https://www.transitionslifecare.org
X-WR-CALDESC:Events for Transitions LifeCare
REFRESH-INTERVAL;VALUE=DURATION:PT1H
X-Robots-Tag:noindex
X-PUBLISHED-TTL:PT1H
BEGIN:VTIMEZONE
TZID:America/New_York
BEGIN:DAYLIGHT
TZOFFSETFROM:-0500
TZOFFSETTO:-0400
TZNAME:EDT
DTSTART:20240310T070000
END:DAYLIGHT
BEGIN:STANDARD
TZOFFSETFROM:-0400
TZOFFSETTO:-0500
TZNAME:EST
DTSTART:20241103T060000
END:STANDARD
BEGIN:DAYLIGHT
TZOFFSETFROM:-0500
TZOFFSETTO:-0400
TZNAME:EDT
DTSTART:20250309T070000
END:DAYLIGHT
BEGIN:STANDARD
TZOFFSETFROM:-0400
TZOFFSETTO:-0500
TZNAME:EST
DTSTART:20251102T060000
END:STANDARD
BEGIN:DAYLIGHT
TZOFFSETFROM:-0500
TZOFFSETTO:-0400
TZNAME:EDT
DTSTART:20260308T070000
END:DAYLIGHT
BEGIN:STANDARD
TZOFFSETFROM:-0400
TZOFFSETTO:-0500
TZNAME:EST
DTSTART:20261101T060000
END:STANDARD
END:VTIMEZONE
BEGIN:VEVENT
DTSTART;TZID=America/New_York:20250902T180000
DTEND;TZID=America/New_York:20250902T193000
DTSTAMP:20260419T112941
CREATED:20250508T210532Z
LAST-MODIFIED:20250508T210532Z
UID:10002164-1756836000-1756841400@www.transitionslifecare.org
SUMMARY:Conversations on Grief (virtual)
DESCRIPTION:Conversations on Grief introduces participants to the many dimensions of grief. Explore different aspects of grief and grieving in these educational and supportive online conversations. \nChoose the time/day that best suits your schedule. \nRegistration is required. Call 919-719-7199. \nUnderstanding Grief\nTuesday\, August 26 \nAnger\, Guilt\, and Regret\nTuesday\, September 2 \nWhy Doesn’t Anyone Understand?\nTuesday\, September 9 \nWho Am I Now?\nTuesday\, September 16 \nWhere Do I Go From Here?\nTuesday\, September 23 \n  \nTransitions GriefCare provides grief support at no charge to the bereaved. If you’d like to help us continue this service\, please consider making a donation at transitionslifecare.org/donate.
URL:https://www.transitionslifecare.org/event/conversations-on-grief-virtual-21/2025-09-02/
LOCATION:Virtual
CATEGORIES:Grief Support,Grief Support for Adults
ATTACH;FMTTYPE=image/jpeg:https://www.transitionslifecare.org/wp-content/uploads/2019/09/AdultGrief_L3halfcol.jpg
GEO:35.7595731;-79.0192997
END:VEVENT
BEGIN:VEVENT
DTSTART;TZID=America/New_York:20250903T180000
DTEND;TZID=America/New_York:20250903T183000
DTSTAMP:20260419T112941
CREATED:20241112T160317Z
LAST-MODIFIED:20251001T195137Z
UID:10002090-1756922400-1756924200@www.transitionslifecare.org
SUMMARY:Volunteer Information Session – 2025
DESCRIPTION:CLICK HERE to Register or call 919-828-0890. \nVolunteer Information Sessions are offered at various times throughout the year. We recommend anyone who is interested in becoming a volunteer attend a half-hour session to learn more about the many ways to volunteer and speak with Transitions LifeCare staff and current volunteers. Please visit our How to Become a Volunteer page for more information. \nThis will be a Zoom session with an invitation emailed to you after registration.
URL:https://www.transitionslifecare.org/event/volunteer-information-session-2025/2025-09-03/
LOCATION:Virtual
CATEGORIES:Volunteer Information Sessions
ATTACH;FMTTYPE=image/png:https://www.transitionslifecare.org/wp-content/uploads/2024/11/LifeCare.Horiz_.4c.png
ORGANIZER;CN="Volunteer Services":MAILTO:vol1@transitionslifecare.org
GEO:35.7595731;-79.0192997
END:VEVENT
BEGIN:VEVENT
DTSTART;TZID=America/New_York:20250905T080000
DTEND;TZID=America/New_York:20250905T170000
DTSTAMP:20260419T112941
CREATED:20250905T185408Z
LAST-MODIFIED:20250905T185408Z
UID:10002233-1757059200-1757091600@www.transitionslifecare.org
SUMMARY:A Moment for Mindfulness (virtual)
DESCRIPTION:Mindfulness has been shown to help calm the grieving brain. Through gentle guidance\, we’ll explore mindfulness practices that help recognize the reality of loss and foster a sense of connection and peace. \nRegistration is required. Call 919-719-7199. \nWednesdays\, 12:00–1:00pm\nOctober 15\nNovember 19\nDecember 17\nJanuary 21 \nTransitions GriefCare provides grief support at no charge to the bereaved. If you’d like to help us continue this service\, please consider making a donation at transitionslifecare.org/donate.
URL:https://www.transitionslifecare.org/event/a-moment-for-mindfulness-virtual-4/2025-09-05/
LOCATION:Virtual
CATEGORIES:Grief Support,Grief Support for Adults
ATTACH;FMTTYPE=image/jpeg:https://www.transitionslifecare.org/wp-content/uploads/2024/05/meditation-1287207_1920.jpg
GEO:35.7595731;-79.0192997
END:VEVENT
BEGIN:VEVENT
DTSTART;TZID=America/New_York:20250909T100000
DTEND;TZID=America/New_York:20250909T113000
DTSTAMP:20260419T112941
CREATED:20250509T151431Z
LAST-MODIFIED:20250509T151431Z
UID:10002175-1757412000-1757417400@www.transitionslifecare.org
SUMMARY:Grief Walk
DESCRIPTION:Join us as we seek comfort in nature and connection with others as we walk the paths at the Museum Park at the North Carolina Museum of Art. \nNote: The Park paths are paved with slight inclines. Please leave pets at home. You are welcome to attend some or all of the walking sessions. \nRegistration required. Call 919-719-7199. \nAll dates: Tuesdays\, 10:00–11:30am \nJune 3 and 17\nJuly 15 and 29\nAugust 12 and 26\nSeptember 9 and 23
URL:https://www.transitionslifecare.org/event/grief-walk-7/2025-09-09/
LOCATION:North Carolina Museum of Art\, 2110 Blue Ridge Rd\, Raleigh\, 27607\, United States
CATEGORIES:Grief Support,Grief Support for Adults
ATTACH;FMTTYPE=image/jpeg:https://www.transitionslifecare.org/wp-content/uploads/2023/06/Path-in-the-forest.jpg
GEO:35.8098897;-78.7025739
X-APPLE-STRUCTURED-LOCATION;VALUE=URI;X-ADDRESS=North Carolina Museum of Art 2110 Blue Ridge Rd Raleigh 27607 United States;X-APPLE-RADIUS=500;X-TITLE=2110 Blue Ridge Rd:geo:-78.7025739,35.8098897
END:VEVENT
BEGIN:VEVENT
DTSTART;TZID=America/New_York:20250909T180000
DTEND;TZID=America/New_York:20250909T193000
DTSTAMP:20260419T112941
CREATED:20250508T210532Z
LAST-MODIFIED:20250508T210532Z
UID:10002165-1757440800-1757446200@www.transitionslifecare.org
SUMMARY:Conversations on Grief (virtual)
DESCRIPTION:Conversations on Grief introduces participants to the many dimensions of grief. Explore different aspects of grief and grieving in these educational and supportive online conversations. \nChoose the time/day that best suits your schedule. \nRegistration is required. Call 919-719-7199. \nUnderstanding Grief\nTuesday\, August 26 \nAnger\, Guilt\, and Regret\nTuesday\, September 2 \nWhy Doesn’t Anyone Understand?\nTuesday\, September 9 \nWho Am I Now?\nTuesday\, September 16 \nWhere Do I Go From Here?\nTuesday\, September 23 \n  \nTransitions GriefCare provides grief support at no charge to the bereaved. If you’d like to help us continue this service\, please consider making a donation at transitionslifecare.org/donate.
URL:https://www.transitionslifecare.org/event/conversations-on-grief-virtual-21/2025-09-09/
LOCATION:Virtual
CATEGORIES:Grief Support,Grief Support for Adults
ATTACH;FMTTYPE=image/jpeg:https://www.transitionslifecare.org/wp-content/uploads/2019/09/AdultGrief_L3halfcol.jpg
GEO:35.7595731;-79.0192997
END:VEVENT
BEGIN:VEVENT
DTSTART;TZID=America/New_York:20250911T130000
DTEND;TZID=America/New_York:20250911T150000
DTSTAMP:20260419T112941
CREATED:20250508T154546Z
LAST-MODIFIED:20250508T154546Z
UID:10002150-1757595600-1757602800@www.transitionslifecare.org
SUMMARY:Expressive Arts (virtual)
DESCRIPTION:Join us for this ongoing virtual expressive arts group. Facilitators will send participants a homework prompt prior to each group for exploring grief through art-making and creativity. The group will meet virtually to share and discuss their creative journey through grief. \nNo art experience needed. Participants can use their creative medium of choice (drawing\, writing\, photography\, nature collage\, sewing\, etc.). \nRegistration required. Call 919.719.7199. \nThursdays\,  1:00–3:00pm\nSeptember 11\nOctober 9 \n  \nTransitions GriefCare provides grief support at no charge to the bereaved. If you’d like to help us continue this service\, please consider making a donation at transitionslifecare.org/donate.
URL:https://www.transitionslifecare.org/event/expressive-arts-virtual-2/2025-09-11/
LOCATION:Virtual
CATEGORIES:Grief Support,Grief Support for Adults
ATTACH;FMTTYPE=image/jpeg:https://www.transitionslifecare.org/wp-content/uploads/2021/05/Journaling-scaled.jpg
GEO:35.7595731;-79.0192997
END:VEVENT
BEGIN:VEVENT
DTSTART;TZID=America/New_York:20250916T180000
DTEND;TZID=America/New_York:20250916T193000
DTSTAMP:20260419T112941
CREATED:20250508T210532Z
LAST-MODIFIED:20250508T210532Z
UID:10002166-1758045600-1758051000@www.transitionslifecare.org
SUMMARY:Conversations on Grief (virtual)
DESCRIPTION:Conversations on Grief introduces participants to the many dimensions of grief. Explore different aspects of grief and grieving in these educational and supportive online conversations. \nChoose the time/day that best suits your schedule. \nRegistration is required. Call 919-719-7199. \nUnderstanding Grief\nTuesday\, August 26 \nAnger\, Guilt\, and Regret\nTuesday\, September 2 \nWhy Doesn’t Anyone Understand?\nTuesday\, September 9 \nWho Am I Now?\nTuesday\, September 16 \nWhere Do I Go From Here?\nTuesday\, September 23 \n  \nTransitions GriefCare provides grief support at no charge to the bereaved. If you’d like to help us continue this service\, please consider making a donation at transitionslifecare.org/donate.
URL:https://www.transitionslifecare.org/event/conversations-on-grief-virtual-21/2025-09-16/
LOCATION:Virtual
CATEGORIES:Grief Support,Grief Support for Adults
ATTACH;FMTTYPE=image/jpeg:https://www.transitionslifecare.org/wp-content/uploads/2019/09/AdultGrief_L3halfcol.jpg
GEO:35.7595731;-79.0192997
END:VEVENT
BEGIN:VEVENT
DTSTART;TZID=America/New_York:20250917T120000
DTEND;TZID=America/New_York:20250917T130000
DTSTAMP:20260419T112941
CREATED:20250508T152030Z
LAST-MODIFIED:20250508T152030Z
UID:10002148-1758110400-1758114000@www.transitionslifecare.org
SUMMARY:A Moment for Mindfulness (virtual)
DESCRIPTION:Mindfulness has been shown to help calm the grieving brain. Through gentle guidance\, we’ll explore mindfulness practices that help recognize the reality of loss and foster a sense of connection and peace. \nRegistration is required. Call 919-719-7199. \nWednesdays\, 12:00–1:00pm\nJune 18\nJuly 16\nAugust 20\nSeptember 17 \nTransitions GriefCare provides grief support at no charge to the bereaved. If you’d like to help us continue this service\, please consider making a donation at transitionslifecare.org/donate.
URL:https://www.transitionslifecare.org/event/a-moment-for-mindfulness-virtual-3/2025-09-17/
LOCATION:Virtual
CATEGORIES:Grief Support,Grief Support for Adults
ATTACH;FMTTYPE=image/jpeg:https://www.transitionslifecare.org/wp-content/uploads/2024/05/meditation-1287207_1920.jpg
GEO:35.7595731;-79.0192997
END:VEVENT
BEGIN:VEVENT
DTSTART;TZID=America/New_York:20250923T100000
DTEND;TZID=America/New_York:20250923T113000
DTSTAMP:20260419T112941
CREATED:20250509T151431Z
LAST-MODIFIED:20250509T151431Z
UID:10002176-1758621600-1758627000@www.transitionslifecare.org
SUMMARY:Grief Walk
DESCRIPTION:Join us as we seek comfort in nature and connection with others as we walk the paths at the Museum Park at the North Carolina Museum of Art. \nNote: The Park paths are paved with slight inclines. Please leave pets at home. You are welcome to attend some or all of the walking sessions. \nRegistration required. Call 919-719-7199. \nAll dates: Tuesdays\, 10:00–11:30am \nJune 3 and 17\nJuly 15 and 29\nAugust 12 and 26\nSeptember 9 and 23
URL:https://www.transitionslifecare.org/event/grief-walk-7/2025-09-23/
LOCATION:North Carolina Museum of Art\, 2110 Blue Ridge Rd\, Raleigh\, 27607\, United States
CATEGORIES:Grief Support,Grief Support for Adults
ATTACH;FMTTYPE=image/jpeg:https://www.transitionslifecare.org/wp-content/uploads/2023/06/Path-in-the-forest.jpg
GEO:35.8098897;-78.7025739
X-APPLE-STRUCTURED-LOCATION;VALUE=URI;X-ADDRESS=North Carolina Museum of Art 2110 Blue Ridge Rd Raleigh 27607 United States;X-APPLE-RADIUS=500;X-TITLE=2110 Blue Ridge Rd:geo:-78.7025739,35.8098897
END:VEVENT
BEGIN:VEVENT
DTSTART;TZID=America/New_York:20250923T180000
DTEND;TZID=America/New_York:20250923T193000
DTSTAMP:20260419T112941
CREATED:20250508T210532Z
LAST-MODIFIED:20250508T210532Z
UID:10002167-1758650400-1758655800@www.transitionslifecare.org
SUMMARY:Conversations on Grief (virtual)
DESCRIPTION:Conversations on Grief introduces participants to the many dimensions of grief. Explore different aspects of grief and grieving in these educational and supportive online conversations. \nChoose the time/day that best suits your schedule. \nRegistration is required. Call 919-719-7199. \nUnderstanding Grief\nTuesday\, August 26 \nAnger\, Guilt\, and Regret\nTuesday\, September 2 \nWhy Doesn’t Anyone Understand?\nTuesday\, September 9 \nWho Am I Now?\nTuesday\, September 16 \nWhere Do I Go From Here?\nTuesday\, September 23 \n  \nTransitions GriefCare provides grief support at no charge to the bereaved. If you’d like to help us continue this service\, please consider making a donation at transitionslifecare.org/donate.
URL:https://www.transitionslifecare.org/event/conversations-on-grief-virtual-21/2025-09-23/
LOCATION:Virtual
CATEGORIES:Grief Support,Grief Support for Adults
ATTACH;FMTTYPE=image/jpeg:https://www.transitionslifecare.org/wp-content/uploads/2019/09/AdultGrief_L3halfcol.jpg
GEO:35.7595731;-79.0192997
END:VEVENT
END:VCALENDAR